BEGIN:VCALENDAR
VERSION:2.0
CALSCALE:GREGORIAN
PRODID:adamgibbons/ics
METHOD:PUBLISH
X-PUBLISHED-TTL:PT1H
BEGIN:VEVENT
UID:2460@agenda.villemorte.fr
SUMMARY:4SIDES SESSION - DJ SET VICKY BREUER + DARK DISCO
DTSTAMP:20260424T172040Z
DTSTART:20260418T190000Z
DTEND:20260418T220000Z
DESCRIPTION:4SIDES SESSION - DJ SET VICKY BREUER\nSamedi\, c’est riviera so
	us la pluie💙\nDe retour au @bluemonday.lyon [https://www.instagram.com/blu
	emonday.lyon/?hl=fr]\n\, pour une nouvelle 4Sides Session\, @vicky_breuer_
	dj\n[https://www.instagram.com/vicky_breuer_dj/?hl=fr] livre un set de 3h0
	0 de Dark\nDisco.
URL:https://agenda.villemorte.fr/event/4sides-session-dj-set-vicky-breuer-d
	ark-disco
LOCATION:Blue Monday - 32 rue Pasteur\, 69007 LYON
STATUS:CONFIRMED
CATEGORIES:
X-ALT-DESC;FMTTYPE=text/html:<p>4SIDES SESSION - DJ SET VICKY BREUER<br>Sam
	edi, c’est riviera sous la pluie💙<br>De retour au <a href="https://www.ins
	tagram.com/bluemonday.lyon/?hl=fr" target="_blank">@bluemonday.lyon</a> , 
	pour une nouvelle 4Sides Session, <a href="https://www.instagram.com/vicky
	_breuer_dj/?hl=fr" target="_blank">@vicky_breuer_dj</a> livre un set de 3h
	00 de Dark Disco.</p>
BEGIN:VALARM
ACTION:DISPLAY
DESCRIPTION:4SIDES SESSION - DJ SET VICKY BREUER + DARK DISCO
TRIGGER:-PT1H
END:VALARM
END:VEVENT
END:VCALENDAR
