BEGIN:VCALENDAR
VERSION:2.0
CALSCALE:GREGORIAN
PRODID:adamgibbons/ics
METHOD:PUBLISH
X-PUBLISHED-TTL:PT1H
BEGIN:VEVENT
UID:2508@agenda.villemorte.fr
SUMMARY:Anniversaire d'Action Justice Climat Lyon
DTSTAMP:20260421T150741Z
DTSTART:20260425T130000Z
DTEND:20260425T230000Z
DESCRIPTION:Le 25 avril 2026 on fête les 2 ans d’Action Justice Climat Lyon
	 à l’AlternatiBar\n!\n\nAu programme :\n\n15h : ouverture de l’AlternatiBa
	r avec atelier de sérigraphie et des crêpes\n🍻👕🎨🥞\n\n17h-19h : Stands pour
	 rencontrer notre collectif et des collectifs alliés 🗣👥✊\n\n19h-20h30 : Ap
	éro et tombola 🍻🔢\n\n20h30-21h : Prises de paroles pour les deux ans 🗣🎤🕯\n
	\n21h-01h : Concert de Sing Together : le groupe joue\, la salle chante\, 
	grosse\nambiance !!! 🔥🎸🗣🎤👥 🔥\n\nRDV samedi 25 avril 2026 à l’AlternatiBar 
	à partir de 15h et jusqu’à 1h !!
URL:https://agenda.villemorte.fr/event/anniversaire-daction-justice-climat-
	lyon
LOCATION:Alternatibar - 126 Montée de la Grande-Côte\n 69001\, Lyon
STATUS:CONFIRMED
CATEGORIES:associatif,concert,discussion,musique live,rencontre,sérigraphie
X-ALT-DESC;FMTTYPE=text/html:<p>Le 25 avril 2026 on fête les 2 ans d’Action
	 Justice Climat Lyon à l’AlternatiBar !</p><p>Au programme :</p><p>15h : o
	uverture de l’AlternatiBar avec atelier de sérigraphie et des crêpes 🍻👕🎨🥞<
	/p><p>17h-19h : Stands pour rencontrer notre collectif et des collectifs a
	lliés 🗣👥✊</p><p>19h-20h30 : Apéro et tombola 🍻🔢</p><p>20h30-21h : Prises d
	e paroles pour les deux ans 🗣🎤🕯</p><p>21h-01h : Concert de Sing Together :
	 le groupe joue, la salle chante, grosse ambiance !!! 🔥🎸🗣🎤👥 🔥</p><p>RDV sa
	medi 25 avril 2026 à l’AlternatiBar à partir de 15h et jusqu’à 1h !!</p>
BEGIN:VALARM
ACTION:DISPLAY
DESCRIPTION:Anniversaire d'Action Justice Climat Lyon
TRIGGER:-PT1H
END:VALARM
END:VEVENT
END:VCALENDAR
