BEGIN:VCALENDAR
VERSION:2.0
CALSCALE:GREGORIAN
PRODID:adamgibbons/ics
METHOD:PUBLISH
X-PUBLISHED-TTL:PT1H
BEGIN:VEVENT
UID:2510@agenda.villemorte.fr
SUMMARY:Bal africain
DTSTAMP:20260421T144316Z
DTSTART:20260430T180000Z
URL:https://agenda.villemorte.fr/event/bal-africain
LOCATION:Grrrnd Zero - 60\, avenue de Bohlen 69120\, Vaulx en Velin
STATUS:CONFIRMED
CATEGORIES:
BEGIN:VALARM
ACTION:DISPLAY
DESCRIPTION:Bal africain
TRIGGER:-PT1H
END:VALARM
END:VEVENT
END:VCALENDAR
