BEGIN:VCALENDAR
VERSION:2.0
CALSCALE:GREGORIAN
PRODID:adamgibbons/ics
METHOD:PUBLISH
X-PUBLISHED-TTL:PT1H
BEGIN:VEVENT
UID:2418@agenda.villemorte.fr
SUMMARY:Cahier d'Aimé
DTSTAMP:20260424T142320Z
DTSTART:20260424T170000Z
DTEND:20260424T180000Z
DESCRIPTION:En se réappropriant le puissant texte Cahier d’un retour au pay
	s natal\, écrit\npar Aimé Césaire et publié en 1939\, Adama Diop nous invi
	te à une réflexion sur\nnotre histoire\, mais aussi à porter un regard neu
	f sur l’engagement de l’artiste\nface aux fractures de la société.\n\nCahi
	er d'Aimé est une œuvre poétique où se mêlent révolte\, quête identitaire 
	et\nréflexions sur la condition coloniale. Le metteur en scène propose un 
	voyage à\ntravers la langue charnue de Césaire\, une immersion profonde da
	ns ce grand\npoème\, dont les sonorités\, le rythme et la puissance ne vou
	s laisseront pas\nindemnes.
URL:https://agenda.villemorte.fr/event/cahier-daime
LOCATION:La Machinerie - Théâtre de Vénissieux - 8 Bd Laurent Gérin\, 69200
	 Vénissieux
STATUS:CONFIRMED
CATEGORIES:Musique,poésie
X-ALT-DESC;FMTTYPE=text/html:<p>En se réappropriant le puissant texte <em>C
	ahier d’un retour au pays natal</em>, écrit par <strong>Aimé Césaire</stro
	ng> et publié en 1939, <strong>Adama Diop</strong> nous invite à une réfle
	xion sur notre histoire, mais aussi à porter un regard neuf sur l’engageme
	nt de l’artiste face aux fractures de la société.</p><p><em>Cahier d'Aimé<
	/em> est une œuvre poétique où se mêlent révolte, quête identitaire et réf
	lexions sur la condition coloniale. Le metteur en scène propose un voyage 
	à travers la langue charnue de Césaire, une immersion profonde dans ce gra
	nd poème, dont les sonorités, le rythme et la puissance ne vous laisseront
	 pas indemnes.</p>
BEGIN:VALARM
ACTION:DISPLAY
DESCRIPTION:Cahier d'Aimé
TRIGGER:-PT1H
END:VALARM
END:VEVENT
END:VCALENDAR
