BEGIN:VCALENDAR
VERSION:2.0
CALSCALE:GREGORIAN
PRODID:adamgibbons/ics
METHOD:PUBLISH
X-PUBLISHED-TTL:PT1H
BEGIN:VEVENT
UID:2417@agenda.villemorte.fr
SUMMARY:Ce que le ventre dit
DTSTAMP:20260423T012104Z
DTSTART:20260423T180000Z
DTEND:20260424T191500Z
DESCRIPTION:Elle est slammeuse\, il est rappeur. Ielles se sont rencontré·e
	s il y a un an. De\ncette rencontre est né un duo inédit où leurs langues 
	se mêlent pour raconter\nféminisme\, masculinité\, virilité\, amitié\, fam
	ille\, exil\, lutte et résistance.\n\nLeurs poésies intimes racontent nos 
	mémoires et nos histoires collectives. Sur\nles samples et la musique élec
	tronique de Marc Nammour\, Ce que le ventre dit est\nune ode joyeuse et pl
	eine d’espoir à mettre dans toutes les oreilles.
URL:https://agenda.villemorte.fr/event/ce-que-le-ventre-dit
LOCATION:La Machinerie - Théâtre de Vénissieux - 8 Bd Laurent Gérin\, 69200
	 Vénissieux
STATUS:CONFIRMED
CATEGORIES:concert,slam/rap
X-ALT-DESC;FMTTYPE=text/html:<p>Elle est slammeuse, il est rappeur. Ielles 
	se sont rencontré·es il y a un an. De cette rencontre est né un duo inédit
	 où leurs langues se mêlent pour raconter féminisme, masculinité, virilité
	, amitié, famille, exil, lutte et résistance.</p><p>Leurs poésies intimes 
	racontent nos mémoires et nos histoires collectives. Sur les samples et la
	 musique électronique de Marc Nammour,<em> Ce que le ventre dit</em> est u
	ne ode joyeuse et pleine d’espoir à mettre dans toutes les oreilles.</p>
BEGIN:VALARM
ACTION:DISPLAY
DESCRIPTION:Ce que le ventre dit
TRIGGER:-PT1H
END:VALARM
END:VEVENT
END:VCALENDAR
