BEGIN:VCALENDAR
VERSION:2.0
CALSCALE:GREGORIAN
PRODID:adamgibbons/ics
METHOD:PUBLISH
X-PUBLISHED-TTL:PT1H
BEGIN:VEVENT
UID:2474@agenda.villemorte.fr
SUMMARY:Cercle de lecture auto-géré (sans hommes cis)
DTSTAMP:20260426T040139Z
DTSTART:20260427T163000Z
DTEND:20260427T180000Z
DESCRIPTION:Lundi 23 mars et Lundi 13 Avril et 23 Avril : Cercle de lecture
	 auto-géré \n18H30 - 20H\nEn mixité choisie sans homme cis\n\nNous constru
	isons un cercle de lecture et de parole qui réunira un petit groupe\n(10-1
	2 personnes) qui se retrouve deux fois par mois pour discuter d’un livre\n
	(fiction\, essai\, bande-dessinée…) proposé par une personne du groupe. On
	 partira\nd’une perspective féministe intersectionnelle pour aborder tous 
	les sujets qui\nnous intéressent (misandrie\, antiproductivisme\, pensée d
	écoloniale\, luttes\nqueer… et ce qui te tente !). L’objectif est de créer
	 un espace de confiance\npour débattre de nos interprétations\, partager n
	os vécus et réfléchir à comment\npasser de la pensée à l'acte. On privilég
	iera au maximum des livres disponibles\nen bibliothèque ou peu chers.\nSi 
	tu te reconnais là-dedans\, viens nous rejoindre\, on a hâte de te rencont
	rer !\nÇa sera l'occasion de discuter très concrètement de nos envies resp
	ectives pour\nce groupe de lecture\, et de démarrer nos discussions en se 
	basant sur le livre\nPour la joie : une ode à la résistance poétique et po
	litique coordonné par\nKiyémis (c'est un recueil de différents textes\, pa
	s besoin de tous les lire si\ntu n'as pas le temps :))\n\nPour t’inscrire\
	, envoie un mail à lectures-engagees@proton.me\n[lectures-engagees@proton.
	me] (l’inscription est obligatoire).\nA très vite !
URL:https://agenda.villemorte.fr/event/cercle-de-lecture-auto-gere-sans-hom
	mes-cis-2
LOCATION:La Comète - 4 rue Nérard\n 69009\, Lyon
STATUS:CONFIRMED
CATEGORIES:discussion
X-ALT-DESC;FMTTYPE=text/html:<p><strong>Lundi 23 mars et Lundi 13 Avril et 
	23 Avril : Cercle de lecture auto-géré&nbsp;</strong><br><strong>18H30 - 2
	0H<br></strong>En mixité choisie sans homme cis<br><br>Nous construisons u
	n cercle de lecture et de parole qui réunira un petit groupe (10-12 person
	nes) qui se retrouve deux fois par mois pour discuter d’un livre (fiction,
	 essai, bande-dessinée…) proposé par une personne du groupe. On partira d’
	une perspective féministe intersectionnelle pour aborder tous les sujets q
	ui nous intéressent (misandrie, antiproductivisme, pensée décoloniale, lut
	tes queer… et ce qui te tente !). L’objectif est de créer un espace de con
	fiance pour débattre de nos interprétations, partager nos vécus et réfléch
	ir à comment passer de la pensée à l'acte. On privilégiera au maximum des 
	livres disponibles en bibliothèque ou peu chers.<br>Si tu te reconnais là-
	dedans, viens nous rejoindre, on a hâte de te rencontrer ! Ça sera l'occas
	ion de discuter très concrètement de nos envies respectives pour ce groupe
	 de lecture, et de démarrer nos discussions en se basant sur le livre Pour
	 la joie : une ode à la résistance poétique et politique coordonné par Kiy
	émis (c'est un recueil de différents textes, pas besoin de tous les lire s
	i tu n'as pas le temps :))<br><br>Pour t’inscrire, envoie un mail à&nbsp;<
	a href="mailto:lectures-engagees@proton.me" target="_blank">lectures-engag
	ees@proton.me</a>&nbsp;(l’inscription est obligatoire).<br>A très vite !</
	p>
BEGIN:VALARM
ACTION:DISPLAY
DESCRIPTION:Cercle de lecture auto-géré (sans hommes cis)
TRIGGER:-PT1H
END:VALARM
END:VEVENT
END:VCALENDAR
