BEGIN:VCALENDAR
VERSION:2.0
CALSCALE:GREGORIAN
PRODID:adamgibbons/ics
METHOD:PUBLISH
X-PUBLISHED-TTL:PT1H
BEGIN:VEVENT
UID:2450@agenda.villemorte.fr
SUMMARY:CINE ZAATAR #6 Tout et rien de Jayce SALLOUM
DTSTAMP:20260423T013150Z
DTSTART:20260423T170000Z
DTEND:20260423T200000Z
DESCRIPTION:Tout et rien\n\nUn film de Jayce SALLOUM avec Soha BECHARA\n\n4
	0' - VOSTF\n\nBar\n\nUn dialogue intime avec Soha Bechara\, ancienne comba
	ttante de la Résistance\nnationale libanaise\, dans sa chambre d’étudiante
	 à Paris\, enregistré un an après\nsa libération du centre de torture et d
	’interrogatoire d’El-Khiam (Sud-Liban)\,\noù elle avait été détenue pendan
	t 10 ans\, dont 6 ans en isolement. Révisant les\nnotions de résistance\, 
	de survie et de volonté\, évoquant la mort\, la séparation\net la proximit
	é\, l’image et le corps surexposés d’une martyre survivante\ns’adressent c
	almement et directement à la caméra\, non pas pour parler de la\ntorture\,
	 mais de la distance entre le sujet et la perte\, de ce qui est laissé\nde
	rrière et de ce qui reste.
URL:https://agenda.villemorte.fr/event/cine-zaatar-6-tout-et-rien-de-jayce-
	salloum
LOCATION:L’Amicale Du Futur - 31 Rue Sébastien Gryphe\n 69007\, LYON
STATUS:CONFIRMED
CATEGORIES:projection
X-ALT-DESC;FMTTYPE=text/html:<p>Tout et rien</p><p>Un film de Jayce SALLOUM
	 avec Soha BECHARA</p><p>40' - VOSTF</p><p>Bar</p><p>Un dialogue intime av
	ec Soha Bechara, ancienne combattante de la Résistance nationale libanaise
	, dans sa chambre d’étudiante à Paris, enregistré un an après sa libératio
	n du centre de torture et d’interrogatoire d’El-Khiam (Sud-Liban), où elle
	 avait été détenue pendant 10 ans, dont 6 ans en isolement. Révisant les n
	otions de résistance, de survie et de volonté, évoquant la mort, la sépara
	tion et la proximité, l’image et le corps surexposés d’une martyre surviva
	nte s’adressent calmement et directement à la caméra, non pas pour parler 
	de la torture, mais de la distance entre le sujet et la perte, de ce qui e
	st laissé derrière et de ce qui reste.</p>
BEGIN:VALARM
ACTION:DISPLAY
DESCRIPTION:CINE ZAATAR #6 Tout et rien de Jayce SALLOUM
TRIGGER:-PT1H
END:VALARM
END:VEVENT
END:VCALENDAR
