BEGIN:VCALENDAR
VERSION:2.0
CALSCALE:GREGORIAN
PRODID:adamgibbons/ics
METHOD:PUBLISH
X-PUBLISHED-TTL:PT1H
BEGIN:VEVENT
UID:2509@agenda.villemorte.fr
SUMMARY:Eric Frye + Michael Flora + WK Werkowicz
DTSTAMP:20260421T145109Z
DTSTART:20260528T180000Z
URL:https://agenda.villemorte.fr/event/eric-frye-michael-flora-wk-werkowicz
LOCATION:Grrrnd Zero - 60\, avenue de Bohlen 69120\, Vaulx en Velin
STATUS:CONFIRMED
CATEGORIES:musique live
BEGIN:VALARM
ACTION:DISPLAY
DESCRIPTION:Eric Frye + Michael Flora + WK Werkowicz
TRIGGER:-PT1H
END:VALARM
END:VEVENT
END:VCALENDAR
