BEGIN:VCALENDAR
VERSION:2.0
CALSCALE:GREGORIAN
PRODID:adamgibbons/ics
METHOD:PUBLISH
X-PUBLISHED-TTL:PT1H
BEGIN:VEVENT
UID:2429@agenda.villemorte.fr
SUMMARY:Histoires de Fouilles - David Wahl
DTSTAMP:20260420T012702Z
DTSTART:20260506T170000Z
DTEND:20260506T174500Z
DESCRIPTION:Que se passerait-il si des archéologues étudiaient le contenu d
	e nos poubelles ?\nIls reconstitueraient – entre autres ! – le lien entre 
	le plastique et les\ndinosaures\, comme le fait David Wahl dans cette créa
	tion avec vivacité et\nhumour.
URL:https://agenda.villemorte.fr/event/histoires-de-fouilles-david-wahl
LOCATION:La Machinerie - Théâtre de Vénissieux - 8 Bd Laurent Gérin\, 69200
	 Vénissieux
STATUS:CONFIRMED
CATEGORIES:jeune public,théâtre
X-ALT-DESC;FMTTYPE=text/html:<p>Que se passerait-il si des archéologues étu
	diaient le contenu de nos poubelles ? Ils reconstitueraient – entre autres
	 ! – le lien entre le plastique et les dinosaures, comme le fait David Wah
	l dans cette création avec vivacité et humour.</p>
BEGIN:VALARM
ACTION:DISPLAY
DESCRIPTION:Histoires de Fouilles - David Wahl
TRIGGER:-PT1H
END:VALARM
END:VEVENT
END:VCALENDAR
