BEGIN:VCALENDAR
VERSION:2.0
CALSCALE:GREGORIAN
PRODID:adamgibbons/ics
METHOD:PUBLISH
X-PUBLISHED-TTL:PT1H
BEGIN:VEVENT
UID:2434@agenda.villemorte.fr
SUMMARY:Journée d’information contre Bolloré & ses alliés - Samedi 25 avril
	 2026 de 14h à 21h
DTSTAMP:20260421T165127Z
DTSTART:20260425T120000Z
DTEND:20260425T190000Z
DESCRIPTION:Médias\, éditions\, librairies... De plus en plus\, Bolloré éte
	nd son emprise pour\nfalsifier\, désinformer et mettre en avant les idées 
	d’extrême droite par la\npromotion de livres et d’émissions aux relents ra
	cistes\, antisociaux et\nréactionnaires.\nAvec son pote Pierre-Édouard Sté
	rin\, ils s’accordent sur la même partition pour\ntenter de gagner la bata
	ille culturelle qui se joue.\nFace au danger que représente cette extrême 
	droitisation du débat public\, nous\nchoisissons de nous unir et de combat
	tre ce fléau avec des librairies alliées\,\ndes médias indépendants et des
	 collectifs en lutte.\n\nRejoignez-nous le samedi 25 avril à l’Ile Égalité
	 (6 rue de l’Egalité\,\nVilleurbanne\, métro Cusset) pour s’informer et pa
	sser à l’action pour désarmer\nl’empire Bolloré et ses alliés. Nous serons
	 les grains de sable qui enrayerons\nleur arsenal médiatique.\n\nProgramme
	\nDe 14h à 16h :\n  Conférence sur Pierre-Edouard Stérin\, quand les milli
	ardaires se mettent au\nservice de l’extrême droite\n  Atelier "se vaccine
	r contre les fake news" par Action Justice Climat et Lumi\n(Blast)\n  Arpe
	ntage autour du livre « Le Contrôle de la Parole » de André Schriffin\n\nD
	e 16h à 18h :\n  Table ronde de librairies indépendantes : comment résiste
	r face à\nl’extrême-droitisation du marché ?\, avec les librairies La Vire
	volte\, La\nTanière\, La Gryffe\n  Conférence sur Bolloré\, quand les mill
	iardaires se mettent au service de\nl’extrême droite\n\nDe 18h à 20h :\n  
	Projection du documentaire « Media crash – Qui a tué le débat public ? »\,
	\nco-produit par Médiapart et Premières lignes\n\nA partir de 20h : Dîner 
	à prix libre par les Greniers des Soulèvements de la\nterre\n\n
URL:https://agenda.villemorte.fr/event/journee-dinformation-contre-bollore-
	and-ses-allies-samedi-25-avril-2026-de-14h-a-21h
LOCATION:Ile Egalité - 6\, rue de l'Egalité\n 69100\, VILLEURBANNE
STATUS:CONFIRMED
CATEGORIES:
X-ALT-DESC;FMTTYPE=text/html:<p>Médias, éditions, librairies... De plus en 
	plus, Bolloré étend son emprise pour falsifier, désinformer et mettre en a
	vant les idées d’extrême droite par la promotion de livres et d’émissions 
	aux relents racistes, antisociaux et réactionnaires.<br>Avec son pote Pier
	re-Édouard Stérin, ils s’accordent sur la même partition pour tenter de ga
	gner la bataille culturelle qui se joue.<br>Face au danger que représente 
	cette extrême droitisation du débat public, nous choisissons de nous unir 
	et de combattre ce fléau avec des librairies alliées, des médias indépenda
	nts et des collectifs en lutte.</p><p>Rejoignez-nous le samedi 25&nbsp;avr
	il à l’Ile Égalité (6 rue de l’Egalité, Villeurbanne, métro Cusset) pour s
	’informer et passer à l’action pour désarmer l’empire Bolloré et ses allié
	s. Nous serons les grains de sable qui enrayerons leur arsenal médiatique.
	</p><p><strong>Programme</strong><br>De 14h à 16h&nbsp;: <br>&nbsp; Confér
	ence sur Pierre-Edouard Stérin, quand les milliardaires se mettent au serv
	ice de l’extrême droite <br>&nbsp; Atelier "se vacciner contre les fake ne
	ws" par Action Justice Climat et Lumi (Blast) <br>&nbsp; Arpentage autour 
	du livre «&nbsp;Le Contrôle de la Parole&nbsp;» de André Schriffin</p><p>D
	e 16h à 18h&nbsp;: <br>&nbsp; Table ronde de librairies indépendantes&nbsp
	;: comment résister face à l’extrême-droitisation du marché&nbsp;?, avec l
	es librairies La Virevolte, La Tanière, La Gryffe <br>&nbsp; Conférence su
	r Bolloré, quand les milliardaires se mettent au service de l’extrême droi
	te</p><p>De 18h à 20h&nbsp;: <br>&nbsp; Projection du documentaire «&nbsp;
	Media crash – Qui a tué le débat public&nbsp;?&nbsp;», co-produit par Médi
	apart et Premières lignes</p><p>A partir de 20h&nbsp;: Dîner à prix libre 
	par les Greniers des Soulèvements de la terre</p><p></p>
BEGIN:VALARM
ACTION:DISPLAY
DESCRIPTION:Journée d’information contre Bolloré & ses alliés - Samedi 25 a
	vril 2026 de 14h à 21h
TRIGGER:-PT1H
END:VALARM
END:VEVENT
END:VCALENDAR
