BEGIN:VCALENDAR
VERSION:2.0
CALSCALE:GREGORIAN
PRODID:adamgibbons/ics
METHOD:PUBLISH
X-PUBLISHED-TTL:PT1H
BEGIN:VEVENT
UID:2421@agenda.villemorte.fr
SUMMARY:Les âmes vivantes des grandes aigrettes - Diaty Diallo
DTSTAMP:20260424T160307Z
DTSTART:20260425T170000Z
DTEND:20260425T180000Z
DESCRIPTION:Diaty Diallo met en voix et en musique un article écrit pour la
	 revue La\nDéferlante. Elle raconte un quartier abandonné où les souvenirs
	 et les espoirs\nse mêlent à une réalité crue. S'inspirant d'une cité de S
	eine-Saint-Denis\, elle\ncrée un lieu fictif où les personnages naviguent 
	entre deux mondes. À travers\ndes récits poétiques\, elle aborde les thème
	s de l'identité\, de la mémoire et de\nla quête d'un foyer\, capturant la 
	complexité de l'existence humaine.\n\nTexte de fiction inspiré du quartier
	 des Fauvettes et de ses habitant·es\nrencontré·es à l'invitation de Alexi
	a Fiasco et Claire Lapeyre Mazérat de\nl'association Maestra \; paru dans 
	le numéro 11 du magazine La Déferlante en\n2023.
URL:https://agenda.villemorte.fr/event/les-ames-vivantes-des-grandes-aigret
	tes-diaty-diallo
LOCATION:La Machinerie - Bizarre ! - 9 Rue Louis Jouvet\, 69200 Vénissieux
STATUS:CONFIRMED
CATEGORIES:musique live,poésie
X-ALT-DESC;FMTTYPE=text/html:<p><strong>Diaty Diallo</strong> met en voix e
	t en musique un article écrit pour la revue La Déferlante. Elle raconte un
	 quartier abandonné où les souvenirs et les espoirs se mêlent à une réalit
	é crue. S'inspirant d'une cité de Seine-Saint-Denis, elle crée un lieu fic
	tif où les personnages naviguent entre deux mondes. À travers des récits p
	oétiques, elle aborde les thèmes de l'identité, de la mémoire et de la quê
	te d'un foyer, capturant la complexité de l'existence humaine.</p><p><em>T
	exte de fiction inspiré du quartier des Fauvettes et de ses habitant·es re
	ncontré·es à l'invitation de Alexia Fiasco et Claire Lapeyre Mazérat de l'
	association Maestra ; paru dans le numéro 11 du magazine La Déferlante en 
	2023.</em></p>
BEGIN:VALARM
ACTION:DISPLAY
DESCRIPTION:Les âmes vivantes des grandes aigrettes - Diaty Diallo
TRIGGER:-PT1H
END:VALARM
END:VEVENT
END:VCALENDAR
