BEGIN:VCALENDAR
VERSION:2.0
CALSCALE:GREGORIAN
PRODID:adamgibbons/ics
METHOD:PUBLISH
X-PUBLISHED-TTL:PT1H
BEGIN:VEVENT
UID:2428@agenda.villemorte.fr
SUMMARY:MADEINPARIS
DTSTAMP:20260421T163542Z
DTSTART:20260430T180000Z
DESCRIPTION:Concert présenté par Mediatone [https://mediatone.net/]
URL:https://agenda.villemorte.fr/event/madeinparis
LOCATION:La Machinerie - Bizarre ! - 9 Rue Louis Jouvet\, 69200 Vénissieux
STATUS:CONFIRMED
CATEGORIES:concert,rap
X-ALT-DESC;FMTTYPE=text/html:<p>Concert présenté par <a href="https://media
	tone.net/" target="_blank">Mediatone</a></p>
BEGIN:VALARM
ACTION:DISPLAY
DESCRIPTION:MADEINPARIS
TRIGGER:-PT1H
END:VALARM
END:VEVENT
END:VCALENDAR
