BEGIN:VCALENDAR
VERSION:2.0
CALSCALE:GREGORIAN
PRODID:adamgibbons/ics
METHOD:PUBLISH
X-PUBLISHED-TTL:PT1H
BEGIN:VEVENT
UID:2420@agenda.villemorte.fr
SUMMARY:Nous sommes la pluie sur le sol nu - Laura Tirandaz et Arash Sarkec
	hik
DTSTAMP:20260425T022646Z
DTSTART:20260425T160000Z
DTEND:20260425T170000Z
URL:https://agenda.villemorte.fr/event/nous-sommes-la-pluie-sur-le-sol-nu-l
	aura-tirandaz-et-arash-sarkechik
LOCATION:La Machinerie - Bizarre ! - 9 Rue Louis Jouvet\, 69200 Vénissieux
STATUS:CONFIRMED
CATEGORIES:concert,poésie
BEGIN:VALARM
ACTION:DISPLAY
DESCRIPTION:Nous sommes la pluie sur le sol nu - Laura Tirandaz et Arash Sa
	rkechik
TRIGGER:-PT1H
END:VALARM
END:VEVENT
END:VCALENDAR
