BEGIN:VCALENDAR
VERSION:2.0
CALSCALE:GREGORIAN
PRODID:adamgibbons/ics
METHOD:PUBLISH
X-PUBLISHED-TTL:PT1H
BEGIN:VEVENT
UID:2462@agenda.villemorte.fr
SUMMARY:OPEN AIR Solibarités - DJ SETS + STAND MAKE UP\, DIY\, STRASS DENTA
	IRE\, TATTOO
DTSTAMP:20260425T004908Z
DTSTART:20260425T140000Z
DTEND:20260425T230000Z
DESCRIPTION:Le rendez-vous annuel de 𝗦𝗼𝗹𝗶𝗕𝗔𝗥𝗶𝘁é𝘀 est de retour !! Parce qu'
	on aime\nnotre Guillotière\, parce qu'on veut la faire vibrer sous le sole
	il du Printemps\,\nles commerçant.e.s du quartier se réunissent pour un gr
	and open air !\n\n𝐴𝑢 𝑃𝑟𝑜𝑔𝑟𝑎𝑚𝑚𝑒 :\n\n꧁ 𝗕𝗹𝘂𝗲 𝗠𝗼𝗻𝗱𝗮𝘆 ꧂\n\n☆ DJ SETS :\n17H : 
	18H30 / DJ @_gigifox [https://www.instagram.com/_gigifox/?hl=fr] - Italo\n
	to trancy ebm\n18H30 : 20H / DJ @djjeanmich [https://www.instagram.com/djj
	eanmich/?hl=fr] -\nFrench touch\, rock\, kitch et autres mets musicaux\n20
	H : 21H30 / DJ @ulti_ma [https://www.instagram.com/ulti_ma/?hl=fr] - Bounc
	e\,\nhard house & eurodance\n21h30 : 23H / DJ @valentintamar [https://www.
	instagram.com/valentintamar/?hl=fr]\n- Groove électrique\, bass music & cl
	assic bangers\n23H : 01H / B2B SURPRISE en intérieur\n\n☆ STANDS :\n➜ ATEL
	IER CUSTOM VINYLES ET CDS - Atelier Par @magmaa.lab\n[https://www.instagra
	m.com/magmaa.lab/?hl=fr] « Trace ton son ». Viens créer sur\nun disque et 
	repars avec ta création. Prix libre - ouvert à toutes et tous.\nVinyles\, 
	CDs & matériel créatif fournis sur place (quantités limitées\, premier·e\n
	arrivé·e\, premier·e servi·e)\n➜ @jagua.style [https://www.instagram.com/j
	agua.style/?hl=fr] STYLE DAMIA -\nTatouages éphémères au jagua\n➜ STRASS D
	ENTAIRES - @hellomauve_ [https://www.instagram.com/hellomauve_/?hl=fr]\naj
	oute une touche de peps à votre look avec la pose de strass dentaires !\n➜
	 MAKE UP - @onefoxkai [https://www.instagram.com/onefoxkai/?hl=fr] vous pr
	opose\nde vous maquiller pour être toujours plus slay\n➜ JEUX\n➜ ESPACE KI
	DS\n\nBAR INTÉRIEUR ET EXTÉRIEUR 💎
URL:https://agenda.villemorte.fr/event/open-air-solibarites-dj-sets-stand-m
	ake-up-diy-strass-dentaire-tattoo
LOCATION:Blue Monday - 32 rue Pasteur\, 69007 LYON
STATUS:CONFIRMED
CATEGORIES:DJ Set,open-air
X-ALT-DESC;FMTTYPE=text/html:<p><strong>Le rendez-vous annuel de 𝗦𝗼𝗹𝗶𝗕𝗔𝗥𝗶𝘁é
	𝘀 est de retour !! Parce qu'on aime notre Guillotière, parce qu'on veut la
	 faire vibrer sous le soleil du Printemps, les commerçant.e.s du quartier 
	se réunissent pour un grand open air !</strong><br><br>𝐴𝑢 𝑃𝑟𝑜𝑔𝑟𝑎𝑚𝑚𝑒 :<br><
	br>꧁ 𝗕𝗹𝘂𝗲 𝗠𝗼𝗻𝗱𝗮𝘆 ꧂<br><br><strong>☆ DJ SETS :</strong><br>17H : 18H30 / DJ
	 <a href="https://www.instagram.com/_gigifox/?hl=fr" target="_blank">@_gig
	ifox</a> - Italo to trancy ebm<br>18H30 : 20H / DJ <a href="https://www.in
	stagram.com/djjeanmich/?hl=fr" target="_blank">@djjeanmich</a> - French to
	uch, rock, kitch et autres mets musicaux<br>20H : 21H30 / DJ <a href="http
	s://www.instagram.com/ulti_ma/?hl=fr" target="_blank">@ulti_ma</a> - Bounc
	e, hard house &amp; eurodance<br>21h30 : 23H / DJ <a href="https://www.ins
	tagram.com/valentintamar/?hl=fr" target="_blank">@valentintamar</a> - Groo
	ve électrique, bass music &amp; classic bangers<br>23H : 01H / B2B SURPRIS
	E en intérieur<br><br><strong>☆ STANDS :</strong><br>➜ ATELIER CUSTOM VINY
	LES ET CDS - Atelier Par <a href="https://www.instagram.com/magmaa.lab/?hl
	=fr" target="_blank">@magmaa.lab</a> « Trace ton son ». Viens créer sur un
	 disque et repars avec ta création. Prix libre - ouvert à toutes et tous. 
	Vinyles, CDs &amp; matériel créatif fournis sur place (quantités limitées,
	 premier·e arrivé·e, premier·e servi·e)<br>➜ <a href="https://www.instagra
	m.com/jagua.style/?hl=fr" target="_blank">@jagua.style</a> STYLE DAMIA - T
	atouages éphémères au jagua<br>➜ STRASS DENTAIRES - <a href="https://www.i
	nstagram.com/hellomauve_/?hl=fr" target="_blank">@hellomauve_</a> ajoute u
	ne touche de peps à votre look avec la pose de strass dentaires !<br>➜ MAK
	E UP - <a href="https://www.instagram.com/onefoxkai/?hl=fr" target="_blank
	">@onefoxkai</a> vous propose de vous maquiller pour être toujours plus sl
	ay<br>➜ JEUX<br>➜ ESPACE KIDS<br><br>BAR INTÉRIEUR ET EXTÉRIEUR 💎</p>
BEGIN:VALARM
ACTION:DISPLAY
DESCRIPTION:OPEN AIR Solibarités - DJ SETS + STAND MAKE UP, DIY, STRASS DEN
	TAIRE, TATTOO
TRIGGER:-PT1H
END:VALARM
END:VEVENT
END:VCALENDAR
