BEGIN:VCALENDAR
VERSION:2.0
CALSCALE:GREGORIAN
PRODID:adamgibbons/ics
METHOD:PUBLISH
X-PUBLISHED-TTL:PT1H
BEGIN:VEVENT
UID:2437@agenda.villemorte.fr
SUMMARY:Panthère Tonnerre Amicale
DTSTAMP:20260425T004240Z
DTSTART:20260425T140000Z
DTEND:20260425T210000Z
DESCRIPTION:Cap sur Lyon\, le 25 avril\, à l'Amicale du futur\, pour la fam
	euse soirée Panthère\nTonnerre Amicale poétique !\n\n \n\nLe 25 avril\, la
	 revue Panthère Première fête son dixième numéro (et ses 10\nbougies) et f
	ait son tonnerre poétique à l’Amicale du futur : petite distro\,\nateliers
	\, discussions\, lectures et performance\, cocktails et snacking vegan et\
	ndj set. Cette étape lyonnaise se fera sous le signe de la poésie et en so
	utien à\ndes rassemblements féministes.\n\nQue vous ayez besoin d’une piqû
	re de beauté rageuse pour nourrir vos anticorps\nfatigués par une année po
	litiquement moisie\, envie de découvrir la revue ou de\nfaire escale après
	 la marche des fiertés lesbiennes et d’entendre des voix de\npoétesses enf
	ouies ou émergentes : venez !\n\nVente de revues\, snacking et bar ouvert 
	pendant tout l’événement. Entrée prix\nlibre. Grrr garanti.\n\nPROGRAMME :
	 \n\nDès 16h : petite distro et exposition autour des pages poésie de la r
	evue et des\ntravaux graphiques d’Eléonore Jasseny et de Pauline Nunez.\nU
	n atelier écriture et linogravure à destination des femmes incarcérées ser
	a\nproposé à prix libre.\n17h30 : présentation du dernier numéro de la rev
	ue et détours poétiques autour\nde la traduction et des écrits de prisonni
	ères.  \n18h : lecture et discussion autour des poèmes de Flora Souchier e
	t du dernier\nlivre de l’autrice\, Méfiez-vous des hommes qui se disent fé
	ministes\, en présence\nde l’autrice.\n19h : performance Initiation à l’au
	todéfense onirique écrit par d’Elise Bonnard\net Satin 2000 avec le texte 
	du collectif zones humides.\n19h45 : pause snacking vegan\, cocktails\n21h
	 : Nika noss\, dj-set hybride dancefloor et hyper-fem autour de musiques p
	op\,\ndisco\, house\, techno et hyperpop.
URL:https://agenda.villemorte.fr/event/panthere-tonnerre-amicale
LOCATION:L’Amicale Du Futur - 31 Rue Sébastien Gryphe\n 69007\, LYON
STATUS:CONFIRMED
CATEGORIES:poésie
X-ALT-DESC;FMTTYPE=text/html:<p><strong>Cap sur Lyon, le 25 avril, à l'Amic
	ale du futur, pour la fameuse soirée Panthère Tonnerre Amicale poétique&nb
	sp;!</strong></p><p> &nbsp;</p><p>Le 25 avril, la revue Panthère Première 
	fête son dixième numéro (et ses 10 bougies) et fait son tonnerre poétique 
	à l’Amicale du futur&nbsp;: petite distro, ateliers, discussions, lectures
	 et performance, cocktails et snacking vegan et dj set. Cette étape lyonna
	ise se fera sous le signe de la poésie et en soutien à des rassemblements 
	féministes.<br><br>Que vous ayez besoin d’une piqûre de beauté rageuse pou
	r nourrir vos anticorps fatigués par une année politiquement moisie, envie
	 de découvrir la revue ou de faire escale après la marche des fiertés lesb
	iennes et d’entendre des voix de poétesses enfouies ou émergentes&nbsp;: v
	enez&nbsp;!<br><br>Vente de revues, snacking et bar ouvert pendant tout l’
	événement. Entrée prix libre. Grrr garanti.<br><br><strong>PROGRAMME</stro
	ng> :&nbsp;</p><p><strong>Dès 16h</strong>&nbsp;: petite <strong>distro</s
	trong> et <strong>exposition</strong> autour des pages poésie de la revue 
	et des travaux graphiques d’Eléonore Jasseny et de Pauline Nunez.<br>Un <s
	trong>atelier</strong> écriture et linogravure à destination des femmes in
	carcérées sera proposé à prix libre.<br><strong>17h30</strong>&nbsp;: <str
	ong>présentation</strong> du dernier numéro de la revue et détours poétiqu
	es autour de la traduction et des écrits de prisonnières. &nbsp;<br><stron
	g>18h</strong>&nbsp;: <strong>lecture et discussion</strong> autour des po
	èmes de Flora Souchier et du dernier livre de l’autrice, <em>Méfiez-vous d
	es hommes qui se disent féministes</em>, en présence de l’autrice.<br><str
	ong>19h</strong>&nbsp;: <strong>performance</strong> <em>Initiation à l’au
	todéfense onirique</em>&nbsp;écrit par d’Elise Bonnard et Satin 2000 avec 
	le texte du collectif zones humides.<br><strong>19h45</strong>&nbsp;: <str
	ong>pause snacking</strong> vegan, cocktails<br><strong>21h</strong> : Nik
	a noss, <strong>dj-set</strong> hybride dancefloor et hyper-fem autour de 
	musiques pop, disco, house, techno et hyperpop.</p>
BEGIN:VALARM
ACTION:DISPLAY
DESCRIPTION:Panthère Tonnerre Amicale
TRIGGER:-PT1H
END:VALARM
END:VEVENT
END:VCALENDAR
