BEGIN:VCALENDAR
VERSION:2.0
CALSCALE:GREGORIAN
PRODID:adamgibbons/ics
METHOD:PUBLISH
X-PUBLISHED-TTL:PT1H
BEGIN:VEVENT
UID:2416@agenda.villemorte.fr
SUMMARY:Poésie couchée #1
DTSTAMP:20260423T013938Z
DTSTART:20260423T170000Z
DTEND:20260423T180000Z
URL:https://agenda.villemorte.fr/event/poesie-couchee-1
LOCATION:La Machinerie - Théâtre de Vénissieux - 8 Bd Laurent Gérin\, 69200
	 Vénissieux
STATUS:CONFIRMED
CATEGORIES:poésie
BEGIN:VALARM
ACTION:DISPLAY
DESCRIPTION:Poésie couchée #1
TRIGGER:-PT1H
END:VALARM
END:VEVENT
END:VCALENDAR
