BEGIN:VCALENDAR
VERSION:2.0
CALSCALE:GREGORIAN
PRODID:adamgibbons/ics
METHOD:PUBLISH
X-PUBLISHED-TTL:PT1H
BEGIN:VEVENT
UID:2495@agenda.villemorte.fr
SUMMARY:SEL ACIDE Release Party · Exposition · Lecture · Performance · Dj s
	et
DTSTAMP:20260421T163552Z
DTSTART:20260528T180000Z
DESCRIPTION:Un crime a été commis dans les steppes du Sonora. Si ancien qu'
	il précède les\nmots. Si profond qu'il remonte\, cycliquement\, du futur.\
	n\nSel Acide est une prose des résidus — mythes d'avant la vie\, guerres d
	e\nl'Entre•Rouille\, tangos d'orage\, corruption totale. Une archéologie d
	e ce qui\nn'aurait pas dû rester.\n\nPour célébrer la sortie du zine — pré
	figuration du livre en cours de traduction\npar les équipes QOYOT® —\, les
	 Éditions Rudérales investissent BosKop d'une\nsoirée à leur image : expos
	ition\, lecture-performance\, musique live. Un\nmonolithe. Un bureau d'arc
	héologue. Et du son\, jusqu'à ce que le jeudi l'accepte\nencore.
URL:https://agenda.villemorte.fr/event/sel-acide-release-party-exposition-l
	ecture-performance-dj-set
LOCATION:BosKop - 60 rue Sébastien Gryphe\n 69007\, Lyon
STATUS:CONFIRMED
CATEGORIES:DJ Set,conférence,discussion,exposition,projection
X-ALT-DESC;FMTTYPE=text/html:<p>Un crime a été commis dans les steppes du S
	onora. Si ancien qu'il précède les mots. Si profond qu'il remonte, cycliqu
	ement, du futur.</p><p><em>Sel Acide</em> est une prose des résidus — myth
	es d'avant la vie, guerres de l'Entre•Rouille, tangos d'orage, corruption 
	totale. Une archéologie de ce qui n'aurait pas dû rester.</p><p>Pour céléb
	rer la sortie du zine — préfiguration du livre en cours de traduction par 
	les équipes QOYOT® —, les Éditions Rudérales investissent BosKop d'une soi
	rée à leur image : exposition, lecture-performance, musique live. Un monol
	ithe. Un bureau d'archéologue. Et du son, jusqu'à ce que le jeudi l'accept
	e encore.</p>
BEGIN:VALARM
ACTION:DISPLAY
DESCRIPTION:SEL ACIDE Release Party · Exposition · Lecture · Performance · 
	Dj set
TRIGGER:-PT1H
END:VALARM
END:VEVENT
END:VCALENDAR
