BEGIN:VCALENDAR
VERSION:2.0
CALSCALE:GREGORIAN
PRODID:adamgibbons/ics
METHOD:PUBLISH
X-PUBLISHED-TTL:PT1H
BEGIN:VEVENT
UID:2435@agenda.villemorte.fr
SUMMARY:SOIREE DE SOUTIEN AU FLANEUR !!!
DTSTAMP:20260424T142320Z
DTSTART:20260424T170000Z
DTEND:20260424T213000Z
DESCRIPTION:La date arrive à grand paaas !\n\nLe Flâneur c'est quoi :\n\nUn
	e auberge coopérative autogérée\, un bar\, un espace culturel et social\, 
	un lieu\nhybride & intersectionnel ou il fait bon de dormir\, flâner\, voi
	r des concerts\ndes performances \, lire\, bosser\, débattre\, jouer a des
	 jeux\, boire des binouzes\nou des softies\, rigoler avec les copain.es [h
	ttp://copain.es]\, boire une bonne\nsoupe avec les résident.es [http://rés
	ident.es]\, faire du yoga\, de la chorale\,\ndes cours de couture... 🤩\n\n
	Une équipe acharnée et polyvalente qui tourne 24/24 nuit et jour en ménage
	\,\nréception\, bar\, administratif\, événementiel et bien plus encore ! 👐
	\n\nUn lieu qui reflète le 7ème et les valeurs qu'on a envie de porter\, f
	éministe\,\nantiraciste\, anti validiste & queer\, des prix accessibles po
	ur la nuitée comme\nle café\, des partenariats avec des assos contre la pr
	écarité..\n\nAujourd'hui\, c'est un peu la galère pour tous pleins de rais
	ons\, loyer\,\ninflation\, taux de remplissage instable\, bcp de nouveaux 
	hostels sur lyon...\ntout est expliqué sur la cagnotte en ligne :\nhttps:/
	/www.we-solidaire.com/fr/collecte/soutien-pour-le-flaneur-guesthouse-lyon\
	n[https://www.we-solidaire.com/fr/collecte/soutien-pour-le-flaneur-guestho
	use-lyon]\n\nAlors si tu tiens un peu au Flafla viens nous voir a notre so
	irée de soutien le\n24 avril de 19 à 23 h ou fais passer le mot \;)\n\nTu 
	peux aussi participer à notre cagnotte en ligne si le cœur t'en dis🫶\n\nle
	flaneur_gh\n\n\n\nArtistes :\n\n@noa.li [http://noa.li].mp3\n\n@antoine.se
	dr\n\n@maelibee\n\n@anarwenn\n\n@formulajuan.vitesse\n\nChorale féministe 
	LA CLAM\n\n
URL:https://agenda.villemorte.fr/event/soiree-de-soutien-au-flaneur
LOCATION:Le Flâneur - 56 Rue Sébastien Gryphe
STATUS:CONFIRMED
CATEGORIES:
X-ALT-DESC;FMTTYPE=text/html:<p>La date arrive à grand paaas !</p><p>Le Flâ
	neur c'est quoi : </p><p>Une auberge coopérative autogérée, un bar, un esp
	ace culturel et social, un lieu hybride &amp; intersectionnel ou il fait b
	on de dormir, flâner, voir des concerts des performances , lire, bosser,  
	débattre, jouer a des jeux, boire des binouzes ou des softies, rigoler ave
	c les <a href="http://copain.es" target="_blank">copain.es</a>, boire une 
	bonne soupe avec les <a href="http://résident.es" target="_blank">résident
	.es</a>, faire du yoga, de la chorale, des cours de couture... 🤩</p><p>Une
	 équipe acharnée et polyvalente qui tourne 24/24  nuit et jour en ménage, 
	réception, bar, administratif, événementiel et bien plus encore ! 👐</p><p>
	Un lieu qui reflète le 7ème et les valeurs qu'on a envie de porter, fémini
	ste, antiraciste, anti validiste &amp; queer, des prix accessibles pour la
	 nuitée comme le café, des partenariats avec des assos contre la précarité
	..</p><p>Aujourd'hui, c'est un peu la galère pour tous pleins de raisons, 
	loyer, inflation, taux de remplissage instable, bcp de nouveaux hostels su
	r lyon... tout est expliqué sur la cagnotte en ligne : <a href="https://ww
	w.we-solidaire.com/fr/collecte/soutien-pour-le-flaneur-guesthouse-lyon" ta
	rget="_blank">https://www.we-solidaire.com/fr/collecte/soutien-pour-le-fla
	neur-guesthouse-lyon</a></p><p>Alors si tu tiens un peu au Flafla viens no
	us voir a notre soirée de soutien le 24 avril de 19 à 23 h ou fais passer 
	le mot ;)</p><p> Tu peux aussi participer à notre cagnotte en ligne si le 
	cœur t'en dis🫶 </p><p>leflaneur_gh</p><p></p><p>Artistes :</p><p>@<a href=
	"http://noa.li" target="_blank">noa.li</a>.mp3 </p><p>@antoine.sedr </p><p
	>@maelibee </p><p>@anarwenn </p><p>@formulajuan.vitesse</p><p>Chorale fémi
	niste LA CLAM</p><p></p>
BEGIN:VALARM
ACTION:DISPLAY
DESCRIPTION:SOIREE DE SOUTIEN AU FLANEUR !!!
TRIGGER:-PT1H
END:VALARM
END:VEVENT
END:VCALENDAR
