BEGIN:VCALENDAR
VERSION:2.0
CALSCALE:GREGORIAN
PRODID:adamgibbons/ics
METHOD:PUBLISH
X-PUBLISHED-TTL:PT1H
BEGIN:VEVENT
UID:2439@agenda.villemorte.fr
SUMMARY:SPIELCLUB
DTSTAMP:20260424T010648Z
DTSTART:20260423T190000Z
DTEND:20260424T014500Z
DESCRIPTION:Le collectif SPIELCLUB est de retour le Jeudi 23 Avril à la pén
	iche Loupika avec\nun line up bien pointu de la Progressive House à la Tra
	nce en passant par la\nFast House & Bouncy Techno\n\n\n\nNos soirées se ve
	ulent inclusives et bienveillantes\, nous ne tolérons aucune\nforme de dis
	crimination\n\n\n\nLe Spielclub c'est quoi ?\n\nUn collectif de DJ souhait
	ant créer un espace où la fête est synonyme d'émotions\nmusicales\, de lie
	ns humains et de plaisir.\n\nNous faisons en sorte que l'on se sente à nos
	 fêtes comme l'on se sent à la\nmaison : un espace chaleureux\, bienveilla
	nt et inclusif où l'on vient écouter de\nla musique parce qu'elle nous fai
	t vibrer\, et parce qu'on s'y sent bien.
URL:https://agenda.villemorte.fr/event/spielclub
LOCATION:Loupika - 47\, quai Rambaud\n 69002\, Lyon
STATUS:CONFIRMED
CATEGORIES:DJ Set
X-ALT-DESC;FMTTYPE=text/html:<p>Le collectif SPIELCLUB est de retour le Jeu
	di 23 Avril à la péniche Loupika avec un line up bien pointu de la Progres
	sive House à la Trance en passant par la Fast House &amp; Bouncy Techno</p
	><p></p><p>Nos soirées se veulent inclusives et bienveillantes, nous ne to
	lérons aucune forme de discrimination</p><p></p><p>Le Spielclub c'est quoi
	 ?</p><p>Un collectif de DJ souhaitant créer un espace où la fête est syno
	nyme d'émotions musicales, de liens humains et de plaisir.</p><p>Nous fais
	ons en sorte que l'on se sente à nos fêtes comme l'on se sent à la maison 
	: un espace chaleureux, bienveillant et inclusif où l'on vient écouter de 
	la musique parce qu'elle nous fait vibrer, et parce qu'on s'y sent bien.</
	p>
BEGIN:VALARM
ACTION:DISPLAY
DESCRIPTION:SPIELCLUB
TRIGGER:-PT1H
END:VALARM
END:VEVENT
END:VCALENDAR
