BEGIN:VCALENDAR
VERSION:2.0
CALSCALE:GREGORIAN
PRODID:adamgibbons/ics
METHOD:PUBLISH
X-PUBLISHED-TTL:PT1H
BEGIN:VEVENT
UID:2467@agenda.villemorte.fr
SUMMARY:The Midnight Computers
DTSTAMP:20260419T122614Z
DTSTART:20260528T173000Z
DTEND:20260528T210000Z
DESCRIPTION:The Midnight Computer : (Electronic Post-Punk & Dark Disco)\n\n
	Né de l'imagination et de la passion de Jonathann Cast et de ses amis\, dé
	sireux\nde partager leur amour pour le côté obscur des années 80. Mêlant l
	a rigueur de\nla techno à l'intensité des synthés new wave\, The Midnight 
	Computers vous feront\ndanser au rythme de vos angoisses. Leur deuxième al
	bum\, « Romantic Disaster »\,\nest immédiatement repéré\, signé et pressé 
	par le label Manic Depression Records.\nHuit titres coldwave puissants pou
	r une déferlante dévastatrice sur le\ndancefloor.…\n\n https://press.themi
	dnightcomputers.com/\n[https://press.themidnightcomputers.com/]\n\nDerives
	 in Me : (Instrumental cinematic post rock)\n\nEntre contemplation et inte
	nsité\, une invitation à un voyage émotionnel\n\n https://www.instagram.co
	m/deriveinme/ [https://www.instagram.com/deriveinme/]\n\n\n
URL:https://agenda.villemorte.fr/event/the-midnight-computers
LOCATION:Bulle de Son - 72 Rue du Bourbonnais\, 69009 Lyon
STATUS:CONFIRMED
CATEGORIES:
X-ALT-DESC;FMTTYPE=text/html:<p>The Midnight Computer : (Electronic Post-Pu
	nk &amp; Dark Disco)</p><p>Né de l'imagination et de la passion de Jonatha
	nn Cast et de ses amis, désireux de partager leur amour pour le côté obscu
	r des années 80. Mêlant la rigueur de la techno à l'intensité des synthés 
	new wave, The Midnight Computers vous feront danser au rythme de vos angoi
	sses. Leur deuxième album, « Romantic Disaster », est immédiatement repéré
	, signé et pressé par le label Manic Depression Records. Huit titres coldw
	ave puissants pour une déferlante dévastatrice sur le dancefloor.…</p><p>&
	nbsp;<a href="https://press.themidnightcomputers.com/" target="_blank">htt
	ps://press.themidnightcomputers.com/</a></p><p>Derives in Me : (Instrument
	al cinematic post rock)</p><p>Entre contemplation et intensité, une invita
	tion à un voyage émotionnel</p><p>&nbsp;<a href="https://www.instagram.com
	/deriveinme/" target="_blank">https://www.instagram.com/deriveinme/</a></p
	><p><br></p>
BEGIN:VALARM
ACTION:DISPLAY
DESCRIPTION:The Midnight Computers
TRIGGER:-PT1H
END:VALARM
END:VEVENT
END:VCALENDAR
