BEGIN:VCALENDAR
VERSION:2.0
CALSCALE:GREGORIAN
PRODID:adamgibbons/ics
METHOD:PUBLISH
X-PUBLISHED-TTL:PT1H
BEGIN:VEVENT
UID:2449@agenda.villemorte.fr
SUMMARY:The Rumpled + Sulfat'Ketamine
DTSTAMP:20260424T032142Z
DTSTART:20260502T173000Z
DTEND:20260502T213000Z
DESCRIPTION:THE RUMPLED (Italie)\n\nLe son de THE RUMPLED est un mélange ex
	plosif de rock\, folk\, pop et punk. Chaque\nchanson est immédiatement dan
	sante\, puissante et pleine d’énergie\, capable\nd’enflammer n’importe que
	l public et de transformer chaque concert en une\ntempête de décibels\, de
	 sueur et d’adrénaline.\n\nAprès deux albums\, cinq EP et plus de 20 milli
	ons d’écoutes sur Spotify\, le\ngroupe continue de conquérir les cœurs à t
	ravers l’Europe. Grâce à leur énergie\ndébordante et leur présence scéniqu
	e enflammée\, ils suscitent un enthousiasme\ncontagieux partout où ils pas
	sent\, notamment grâce à leur connexion sincère avec\nle public.\n\nAvec Y
	ou Get Me So High\, ils ont remporté des récompenses au 2025 San Marino\nS
	ong Contest\, frôlant une participation à l’Eurovision\, et décrochant à l
	a fois\nla deuxième place parmi les artistes majeurs (juste derrière Gabry
	 Ponte) ainsi\nque le Gold Award du meilleur groupe émergent.\n\nL’année 2
	026 marque un nouveau chapitre passionnant. En avril\, THE RUMPLED\nsortir
	ont un tout nouvel EP\, suivi d’une tournée européenne en tête d’affiche\,
	\navec des dates au Royaume-Uni\, en France\, en Allemagne\, en République
	 tchèque\,\nen Autriche\, en Italie et aux Pays-Bas. Ensuite\, le groupe p
	rendra la tête d’une\nlongue saison de festivals d’été à travers le contin
	ent.\n\nSULPHAT'KETAMINE\n\nUn combo furieusement Rock'nRoll et nourri à t
	out ce qui se faisait de plus ou\nmoins électrique dans les 60's et les 70
	's. Taillés pour la scène et poussés par\nune urgence de tout les instants
	 ils ont donnés naissance au RUNK : Nom ou\nadjectif cosmique\, variable s
	elon les décibels\, style musical à prédominance\nRock'nRoll
URL:https://agenda.villemorte.fr/event/the-rumpled
LOCATION:Bulle de Son - 72 Rue du Bourbonnais\, 69009 Lyon
STATUS:CONFIRMED
CATEGORIES:concert
X-ALT-DESC;FMTTYPE=text/html:<p>THE RUMPLED (Italie)</p><p>Le son de THE RU
	MPLED est un mélange explosif de rock, folk, pop et punk. Chaque chanson e
	st immédiatement dansante, puissante et pleine d’énergie, capable d’enflam
	mer n’importe quel public et de transformer chaque concert en une tempête 
	de décibels, de sueur et d’adrénaline.</p><p>Après deux albums, cinq EP et
	 plus de 20 millions d’écoutes sur Spotify, le groupe continue de conquéri
	r les cœurs à travers l’Europe. Grâce à leur énergie débordante et leur pr
	ésence scénique enflammée, ils suscitent un enthousiasme contagieux partou
	t où ils passent, notamment grâce à leur connexion sincère avec le public.
	</p><p>Avec You Get Me So High, ils ont remporté des récompenses au 2025 S
	an Marino Song Contest, frôlant une participation à l’Eurovision, et décro
	chant à la fois la deuxième place parmi les artistes majeurs (juste derriè
	re Gabry Ponte) ainsi que le Gold Award du meilleur groupe émergent.</p><p
	>L’année 2026 marque un nouveau chapitre passionnant. En avril, THE RUMPLE
	D sortiront un tout nouvel EP, suivi d’une tournée européenne en tête d’af
	fiche, avec des dates au Royaume-Uni, en France, en Allemagne, en Républiq
	ue tchèque, en Autriche, en Italie et aux Pays-Bas. Ensuite, le groupe pre
	ndra la tête d’une longue saison de festivals d’été à travers le continent
	.</p><p>SULPHAT'KETAMINE</p><p>Un combo furieusement Rock'nRoll et nourri 
	à tout ce qui se faisait de plus ou moins électrique dans les 60's et les 
	70's. Taillés pour la scène et poussés par une urgence de tout les instant
	s ils ont donnés naissance au RUNK : Nom ou adjectif cosmique, variable se
	lon les décibels, style musical à prédominance Rock'nRoll</p>
BEGIN:VALARM
ACTION:DISPLAY
DESCRIPTION:The Rumpled + Sulfat'Ketamine
TRIGGER:-PT1H
END:VALARM
END:VEVENT
END:VCALENDAR
