BEGIN:VCALENDAR
VERSION:2.0
CALSCALE:GREGORIAN
PRODID:adamgibbons/ics
METHOD:PUBLISH
X-PUBLISHED-TTL:PT1H
BEGIN:VEVENT
UID:2517@agenda.villemorte.fr
SUMMARY:Vernissage : Le Bal de Luxifer (Drag show\, poésie\, suspension\, e
	ct)
DTSTAMP:20260424T004041Z
DTSTART:20260502T180000Z
DTEND:20260502T210000Z
DESCRIPTION:LE BAL DE LUXIFER\n\n🗓️SAMEDI 2 MAI de 20 à 23h\n💸 de 2 à 12€ (l
	es dès choissiront 🎲)\n📍La Boucherie des Pentes\n\n🎟️ LA PROG :\n🩸 VERNISSA
	GE / BURNED PLASTICS & FLUO 3D by @monsieur.luxifer\n[https://www.instagra
	m.com/monsieur.luxifer/]\n\n🩸DRAGSHOW avec nos VERY spéciales GUESTS @vega
	_drag\n[https://www.instagram.com/vega_drag/] and @_guiiillotiere_\n[https
	://www.instagram.com/_guiiillotiere_/]\n+ scènes ouvertes pour nos Queens\
	, Kings & Monsters du public\n\n🩸DIVINATION & POETRY par le démancien Maxi
	me Muller (@_chipolata_\n[https://www.instagram.com/_chipolata_/])\n\n🩸MAK
	E UP atelier w/ la sanglante @ondine.mua\n[https://www.instagram.com/ondin
	e.mua/]\n\n🩸CLOSING : SUSPENSION by @monsieur.luxifer\n[https://www.instag
	ram.com/monsieur.luxifer/]\n\nBuvette sur place par le BoB [https://www.in
	stagram.com/leboblyon/]\n\nAffiche par @salomedmrts [https://www.instagram
	.com/salomedmrts/]
URL:https://agenda.villemorte.fr/event/vernissage-le-bal-de-luxifer-drag-sh
	ow-poesie-suspension-ect
LOCATION:La Boucherie des Pentes - 14 rue Imbert-Colomès
STATUS:CONFIRMED
CATEGORIES:drag-show,poésie,vernissage
X-ALT-DESC;FMTTYPE=text/html:<p>LE BAL DE LUXIFER<br><br>🗓️SAMEDI 2 MAI de 2
	0 à 23h<br>💸 de 2 à 12€ (les dès choissiront 🎲)<br>📍La Boucherie des Pente
	s<br><br>🎟️ LA PROG :<br>🩸 VERNISSAGE / BURNED PLASTICS &amp; FLUO 3D by <a
	 href="https://www.instagram.com/monsieur.luxifer/" target="_blank">@monsi
	eur.luxifer</a><br><br>🩸DRAGSHOW avec nos VERY spéciales GUESTS <a href="h
	ttps://www.instagram.com/vega_drag/" target="_blank">@vega_drag</a> and <a
	 href="https://www.instagram.com/_guiiillotiere_/" target="_blank">@_guiii
	llotiere_</a> <br>+ scènes ouvertes pour nos Queens, Kings &amp; Monsters 
	du public <br><br>🩸DIVINATION &amp; POETRY par le démancien Maxime Muller 
	(<a href="https://www.instagram.com/_chipolata_/" target="_blank">@_chipol
	ata_</a>)<br><br>🩸MAKE UP atelier w/ la sanglante <a href="https://www.ins
	tagram.com/ondine.mua/" target="_blank">@ondine.mua</a><br><br>🩸CLOSING : 
	SUSPENSION by <a href="https://www.instagram.com/monsieur.luxifer/" target
	="_blank">@monsieur.luxifer</a><br><br>Buvette sur place par le <a href="h
	ttps://www.instagram.com/leboblyon/" target="_blank">BoB</a><br><br>Affich
	e par <a href="https://www.instagram.com/salomedmrts/" target="_blank">@sa
	lomedmrts</a></p>
BEGIN:VALARM
ACTION:DISPLAY
DESCRIPTION:Vernissage : Le Bal de Luxifer (Drag show, poésie, suspension, 
	ect)
TRIGGER:-PT1H
END:VALARM
END:VEVENT
END:VCALENDAR
