BEGIN:VCALENDAR
VERSION:2.0
CALSCALE:GREGORIAN
PRODID:adamgibbons/ics
METHOD:PUBLISH
X-PUBLISHED-TTL:PT1H
BEGIN:VEVENT
UID:2483@agenda.villemorte.fr
SUMMARY:Vernissage · Exposition "Le monde de Léon" | Projection · Performan
	ce · Rencontres
DTSTAMP:20260424T020408Z
DTSTART:20260502T180000Z
DTEND:20260502T213000Z
DESCRIPTION:> PHOTOGRAPHIE · PERFORMANCE · CRÉATION SONORE · CORPS · MYTHE 
	· ÉCOLOGIE ·\n> PRÉSENCE\n\n« Le monde de Léon » est une traversée. Une dé
	rive intérieure. C'est un univers\nvisuel et sonore\, construit par fragme
	nts\, où le corps devient langage\nsilencieux.\n\nLe monde de Léon est une
	 expérience artistique immersive qui mêle photographie\,\nperformance et c
	réation sonore. Mirlande et Léon vous proposent une exposition\navec une s
	érie d'images en noir et blanc dans lesquels Léon performera sur ses\ntext
	es\, entre silence\, voix et son — les deux artistes vous invitent à entre
	r\ndans un espace sensible entre identité\, fiction et présence.\n\nLéon e
	st un personnage mythologique. Fils d'une mère concrète et d'un père\nfant
	ôme\, il est l'élu d'une génération qui a pour mission de réveiller les\nc
	onsciences quant aux maux engendrés par les Hommes sur la planète. Un jour
	\, sa\nmère — la Terre\, affaiblie et se rapprochant de la mort à grands p
	as — et son\npère\, fils du vent et des énergies\, décident de convoquer l
	es Dieux pour\nconjurer le désastre de la fin du monde. Comme dernier reco
	urs\, les parents\ndécident d'infliger à leur fils que lui poussent des co
	rnes sur la tête. À la\nveille de la mort d'un des parents\, Léon se décou
	vre\, après une nuit de douleur\,\navec sa nouvelle allure. Entre horreur\
	, dégoût\, deuil et désespoir\, il n'a plus\npour ultime destin que de fai
	re comprendre aux humains l'importance de la nature\net de la matière. Ces
	 nouvelles extrémités\, qui lui donnent un genre de bête\,\nrévèlent un an
	crage et un équilibre qu'il nous faut retrouver entre les vivants\,\nsans 
	dominations ni tueries de masse pour le plaisir d'une minorité.\n\nLéon es
	t l'enfant de cette Terre qu'il nomme Mère. Il parle\, dans cette\nperform
	ance\, de la dégradation subie par sa mère et son père\, orchestrée par le
	s\nhumains (son espèce). Son devoir est de faire comprendre que son monde 
	est aussi\ncelui des autres.\n\nProgramme\n\n * 20h · Ouverture — accueil\
	, présentation de l'exposition et projection vidé\n\n * 20h30 · Performanc
	e de Léon — 45 min\n\n * 21h15 · Temps d'échange avec le public\n\n * 22h 
	· Derniers verres
URL:https://agenda.villemorte.fr/event/vernissage-le-monde-de-leon-or-proje
	ction-performance-rencontres
LOCATION:BosKop - 60 rue Sébastien Gryphe\n 69007\, Lyon
STATUS:CONFIRMED
CATEGORIES:concert,discussion,exposition,projection
X-ALT-DESC;FMTTYPE=text/html:<blockquote><h3><em>photographie · performance
	 · création sonore · corps · mythe · écologie · présence</em></h3></blockq
	uote><p>« Le monde de Léon » est une traversée. Une dérive intérieure. C'e
	st un univers visuel et sonore, construit par fragments, où le corps devie
	nt langage silencieux.</p><p>Le monde de Léon est une expérience artistiqu
	e immersive qui mêle photographie, performance et création sonore. Mirland
	e et Léon vous proposent une exposition avec une série d'images en noir et
	 blanc dans lesquels Léon performera sur ses textes, entre silence, voix e
	t son — les deux artistes vous invitent à entrer dans un espace sensible e
	ntre identité, fiction et présence.</p><p>Léon est un personnage mythologi
	que. Fils d'une mère concrète et d'un père fantôme, il est l'élu d'une gén
	ération qui a pour mission de réveiller les consciences quant aux maux eng
	endrés par les Hommes sur la planète. Un jour, sa mère — la Terre, affaibl
	ie et se rapprochant de la mort à grands pas — et son père, fils du vent e
	t des énergies, décident de convoquer les Dieux pour conjurer le désastre 
	de la fin du monde. Comme dernier recours, les parents décident d'infliger
	 à leur fils que lui poussent des cornes sur la tête. À la veille de la mo
	rt d'un des parents, Léon se découvre, après une nuit de douleur, avec sa 
	nouvelle allure. Entre horreur, dégoût, deuil et désespoir, il n'a plus po
	ur ultime destin que de faire comprendre aux humains l'importance de la na
	ture et de la matière. Ces nouvelles extrémités, qui lui donnent un genre 
	de bête, révèlent un ancrage et un équilibre qu'il nous faut retrouver ent
	re les vivants, sans dominations ni tueries de masse pour le plaisir d'une
	 minorité.</p><p>Léon est l'enfant de cette Terre qu'il nomme Mère. Il par
	le, dans cette performance, de la dégradation subie par sa mère et son pèr
	e, orchestrée par les humains (son espèce). Son devoir est de faire compre
	ndre que son monde est aussi celui des autres.</p><p><strong>Programme</st
	rong> </p><ul><li><p>20h · Ouverture — accueil, présentation de l'expositi
	on et projection vidé </p></li><li><p>20h30 · Performance de Léon — 45 min
	 </p></li><li><p>21h15 · Temps d'échange avec le public </p></li><li><p>22
	h · Derniers verres </p></li></ul>
BEGIN:VALARM
ACTION:DISPLAY
DESCRIPTION:Vernissage · Exposition "Le monde de Léon" | Projection · Perfo
	rmance · Rencontres
TRIGGER:-PT1H
END:VALARM
END:VEVENT
END:VCALENDAR
