BEGIN:VCALENDAR
VERSION:2.0
CALSCALE:GREGORIAN
PRODID:adamgibbons/ics
METHOD:PUBLISH
X-PUBLISHED-TTL:PT1H
BEGIN:VEVENT
UID:1838@agenda.villemorte.fr
SUMMARY:CONCERT | LOUISADONNA
DTSTAMP:20260424T160409Z
DTSTART:20260424T183000Z
URL:https://agenda.villemorte.fr/event/concert-or-louisadonna
LOCATION:A Thou Bout d'Chant - 2 rue de Thou
STATUS:CONFIRMED
CATEGORIES:pop,chanson française,concert
END:VEVENT
BEGIN:VEVENT
UID:1709@agenda.villemorte.fr
SUMMARY:AblaBôye
DTSTAMP:20260424T160409Z
DTSTART:20260425T183000Z
URL:https://agenda.villemorte.fr/event/ablaboye
LOCATION:A Thou Bout d'Chant - 2 rue de Thou
STATUS:CONFIRMED
CATEGORIES:folk,musique live,chanson française
END:VEVENT
BEGIN:VEVENT
UID:1839@agenda.villemorte.fr
SUMMARY:BLINDTEST | QU'OUÏS-JE ?
DTSTAMP:20260424T160409Z
DTSTART:20260429T183000Z
URL:https://agenda.villemorte.fr/event/blindtest-or-quouis-je-1
LOCATION:A Thou Bout d'Chant - 2 rue de Thou
STATUS:CONFIRMED
CATEGORIES:blindtest,chanson française
END:VEVENT
BEGIN:VEVENT
UID:1710@agenda.villemorte.fr
SUMMARY:Fleur sous bitume + Mo(i) | Co-plateau
DTSTAMP:20260424T160409Z
DTSTART:20260430T183000Z
URL:https://agenda.villemorte.fr/event/fleur-sous-bitume-moi-or-co-plateau
LOCATION:A Thou Bout d'Chant - 2 rue de Thou
STATUS:CONFIRMED
CATEGORIES:musique live,chanson française,rap,pop
END:VEVENT
BEGIN:VEVENT
UID:1840@agenda.villemorte.fr
SUMMARY:CONCERT | TRIBUTE THOU MYLÈNE FARMER
DTSTAMP:20260424T160409Z
DTSTART:20260506T183000Z
URL:https://agenda.villemorte.fr/event/concert-or-tribute-thou-mylene-farme
	r
LOCATION:A Thou Bout d'Chant - 2 rue de Thou
STATUS:CONFIRMED
CATEGORIES:concert,chanson française,mylène farmer
END:VEVENT
BEGIN:VEVENT
UID:1711@agenda.villemorte.fr
SUMMARY:Marcia + Lisa Claudie | Co-plateau
DTSTAMP:20260424T160409Z
DTSTART:20260507T183000Z
URL:https://agenda.villemorte.fr/event/marcia-lisa-claudie-or-co-plateau
LOCATION:A Thou Bout d'Chant - 2 rue de Thou
STATUS:CONFIRMED
CATEGORIES:musique electronique,chanson française,musique live,pop
END:VEVENT
BEGIN:VEVENT
UID:1712@agenda.villemorte.fr
SUMMARY:Chloé Lacan
DTSTAMP:20260424T160409Z
DTSTART:20260521T183000Z
URL:https://agenda.villemorte.fr/event/chloe-lacan-1
LOCATION:A Thou Bout d'Chant - 2 rue de Thou
STATUS:CONFIRMED
CATEGORIES:chanson française,accordéon,musique live,ukulélé,folk
END:VEVENT
BEGIN:VEVENT
UID:1841@agenda.villemorte.fr
SUMMARY:CONCERT | KARPATT
DTSTAMP:20260424T160409Z
DTSTART:20260528T183000Z
URL:https://agenda.villemorte.fr/event/concert-or-karpatt
LOCATION:A Thou Bout d'Chant - 2 rue de Thou
STATUS:CONFIRMED
CATEGORIES:chanson française,concert
END:VEVENT
BEGIN:VEVENT
UID:1842@agenda.villemorte.fr
SUMMARY:KERMESSE DE SOUTIEN À ATBC
DTSTAMP:20260424T160409Z
DTSTART:20260530T120000Z
URL:https://agenda.villemorte.fr/event/kermesse-de-soutien-a-atbc
LOCATION:A Thou Bout d'Chant - 2 rue de Thou
STATUS:CONFIRMED
CATEGORIES:chanson française,atelier,chorale,concert,goûter,kermesse,piano 
	karaoké,pétanque,tombola
END:VEVENT
BEGIN:VEVENT
UID:1843@agenda.villemorte.fr
SUMMARY:CONCERT | Soirée ENM
DTSTAMP:20260424T160409Z
DTSTART:20260603T183000Z
URL:https://agenda.villemorte.fr/event/concert-or-soiree-enm
LOCATION:A Thou Bout d'Chant - 2 rue de Thou
STATUS:CONFIRMED
CATEGORIES:chanson française,concert
END:VEVENT
BEGIN:VEVENT
UID:1713@agenda.villemorte.fr
SUMMARY:LIOR SHOOV
DTSTAMP:20260424T160409Z
DTSTART:20260604T183000Z
URL:https://agenda.villemorte.fr/event/lior-shoov
LOCATION:A Thou Bout d'Chant - 2 rue de Thou
STATUS:CONFIRMED
CATEGORIES:folk,musique live,chanson française
END:VEVENT
BEGIN:VEVENT
UID:1714@agenda.villemorte.fr
SUMMARY:NO MAD
DTSTAMP:20260424T160409Z
DTSTART:20260605T183000Z
URL:https://agenda.villemorte.fr/event/no-mad
LOCATION:A Thou Bout d'Chant - 2 rue de Thou
STATUS:CONFIRMED
CATEGORIES:folk,chanson française,musique live
END:VEVENT
BEGIN:VEVENT
UID:1844@agenda.villemorte.fr
SUMMARY:CONCERT | JÉRÉMIE BOSSONE
DTSTAMP:20260424T160409Z
DTSTART:20260612T183000Z
URL:https://agenda.villemorte.fr/event/concert-or-jeremie-bossone
LOCATION:A Thou Bout d'Chant - 2 rue de Thou
STATUS:CONFIRMED
CATEGORIES:rock,concert,chanson française
END:VEVENT
BEGIN:VEVENT
UID:1849@agenda.villemorte.fr
SUMMARY:SCÈNE SLAM/RAP
DTSTAMP:20260424T160409Z
DTSTART:20260617T173000Z
URL:https://agenda.villemorte.fr/event/scene-slamrap-2
LOCATION:A Thou Bout d'Chant - 2 rue de Thou
STATUS:CONFIRMED
CATEGORIES:slam/rap,concert,Scène ouverte
END:VEVENT
BEGIN:VEVENT
UID:1845@agenda.villemorte.fr
SUMMARY:CONCERT | CAÏMAN sortie d'album remixé
DTSTAMP:20260424T160409Z
DTSTART:20260618T183000Z
URL:https://agenda.villemorte.fr/event/concert-or-caiman-sortie-dalbum-remi
	xe
LOCATION:A Thou Bout d'Chant - 2 rue de Thou
STATUS:CONFIRMED
CATEGORIES:chanson française,pop,rap,concert
END:VEVENT
BEGIN:VEVENT
UID:1846@agenda.villemorte.fr
SUMMARY:CONCERT | VIRGINIE NOURRY (LÀ PIETÀ)
DTSTAMP:20260424T160409Z
DTSTART:20260619T183000Z
URL:https://agenda.villemorte.fr/event/concert-or-virginie-nourry-la-pieta
LOCATION:A Thou Bout d'Chant - 2 rue de Thou
STATUS:CONFIRMED
CATEGORIES:humour,rock,chanson française,concert
END:VEVENT
END:VCALENDAR
