BEGIN:VCALENDAR
VERSION:2.0
CALSCALE:GREGORIAN
PRODID:adamgibbons/ics
METHOD:PUBLISH
X-PUBLISHED-TTL:PT1H
BEGIN:VEVENT
UID:2311@agenda.villemorte.fr
SUMMARY:Lma + Rroy
DTSTAMP:20260426T040139Z
DTSTART:20260426T173000Z
DTEND:20260426T210000Z
URL:https://agenda.villemorte.fr/event/lma-rroy
LOCATION:La Pente - 14 Montée des Carmélites\n 69001\, Lyon
STATUS:CONFIRMED
CATEGORIES:concert
END:VEVENT
END:VCALENDAR
