BEGIN:VCALENDAR
VERSION:2.0
CALSCALE:GREGORIAN
PRODID:adamgibbons/ics
METHOD:PUBLISH
X-PUBLISHED-TTL:PT1H
BEGIN:VEVENT
UID:2473@agenda.villemorte.fr
SUMMARY:Le Café de La Comète (sans mec cis hétéro)
DTSTAMP:20260420T013954Z
DTSTART:20260422T120000Z
DTEND:20260422T150000Z
URL:https://agenda.villemorte.fr/event/le-cafe-de-la-comete-sans-mec-cis-he
	tero-4
LOCATION:La Comète - 4 rue Nérard\n 69009\, Lyon
STATUS:CONFIRMED
CATEGORIES:café
END:VEVENT
END:VCALENDAR
