BEGIN:VCALENDAR
VERSION:2.0
CALSCALE:GREGORIAN
PRODID:adamgibbons/ics
METHOD:PUBLISH
X-PUBLISHED-TTL:PT1H
BEGIN:VEVENT
UID:2513@agenda.villemorte.fr
SUMMARY:Journées du Logiciel Libre
DTSTAMP:20260423T100901Z
DTSTART:20260530T080000Z
DTEND:20260531T160000Z
URL:https://agenda.villemorte.fr/event/journees-du-logiciel-libre-1
LOCATION:ENS site Descartes - 19 allée de Fontenay\n 69007\, Lyon
STATUS:CONFIRMED
CATEGORIES:associations,ateliers,conférences,install-party,libre
END:VEVENT
END:VCALENDAR
